BEGIN:VCALENDAR
VERSION:2.0
PRODID:-//TioVisor - ECPv6.15.17//NONSGML v1.0//EN
CALSCALE:GREGORIAN
METHOD:PUBLISH
X-WR-CALNAME:TioVisor
X-ORIGINAL-URL:https://tiovisor.com
X-WR-CALDESC:Eventos para TioVisor
REFRESH-INTERVAL;VALUE=DURATION:PT1H
X-Robots-Tag:noindex
X-PUBLISHED-TTL:PT1H
BEGIN:VTIMEZONE
TZID:America/Mexico_City
BEGIN:STANDARD
TZOFFSETFROM:-0600
TZOFFSETTO:-0600
TZNAME:CST
DTSTART:20240101T000000
END:STANDARD
END:VTIMEZONE
BEGIN:VEVENT
DTSTART;TZID=America/Mexico_City:20250626T080000
DTEND;TZID=America/Mexico_City:20250627T120000
DTSTAMP:20260418T231143
CREATED:20250621T001149Z
LAST-MODIFIED:20250621T001826Z
UID:625-1750924800-1751025600@tiovisor.com
SUMMARY:Visorias Liga TDP – Nueva Franquicia
DESCRIPTION:¡Una nueva oportunidad para formar parte del fútbol profesional ha llegado! \nInvitamos a todos los jugadores nacidos entre 2004 y 2011 a participar en nuestras visorías oficiales para integrar la nueva franquicia de Liga TDP.Si estás listo para dar el siguiente paso en tu carrera futbolística\, esta es tu oportunidad. \n📍 Ubicación: Campos Las Palmas (Punto Sur)📅 Fechas: Jueves 26 y Viernes 27 de Julio🕗 Hora de inicio: 8:00 AM \n\n✅ Categorías convocadas:\n\n\n2004 \n\n\n2005 \n\n\n2006 \n\n\n2007 \n\n\n2008 \n\n\n2009 \n\n\n2010 \n\n\n2011 \n\n\n\n📲 Más información al: \nWhatsApp para registro \nCarta Responsiva \n(33) 1379-2867 \n🚨 ¡Cupo limitado! Presentarse con anticipación. \nESTAS VISORIAS SON AJENAS A TIOVISOR
URL:https://tiovisor.com/event/visorias-liga-tdp-nueva-franquicia/
LOCATION:Campos Las Palmas
ATTACH;FMTTYPE=image/jpeg:https://tiovisor.com/wp-content/uploads/2025/06/NuevaHistoriasPub.jpg
END:VEVENT
BEGIN:VEVENT
DTSTART;TZID=America/Mexico_City:20250419T080000
DTEND;TZID=America/Mexico_City:20250420T170000
DTSTAMP:20260418T231143
CREATED:20250403T014901Z
LAST-MODIFIED:20250417T050027Z
UID:587-1745049600-1745168400@tiovisor.com
SUMMARY:Pro Soccer Tryouts en McAllen\, Texas
DESCRIPTION:¡Visorias con equipos de LIGA MX y MLS! \nParticipa en las visorias oficiales con clubes profesionales como Tigres\, Pachuca\, Houston Dynamo FC y Austin FC. Esta es tu oportunidad para mostrar tu talento y dar el siguiente paso en tu carrera futbolística. \n📍 Lugar: Bicentennial Soccer Complex\, McAllen\, Texas \n📅 Fechas: \n\n\nSábado 19 de abril \n\n\nDomingo 20 de abril \n\n\n🕘 Horarios por categoría:\nSábado 19 de abril: \n\n\n9:00 – 11:00 hrs | Varonil 2013 – 2014 (U12) \n\n\n11:00 – 13:00 hrs | Varonil 2011 – 2012 (U13) \n\n\n13:00 – 15:00 hrs | Varonil 2009 – 2010 (U16) \n\n\n15:00 – 17:00 hrs | Femenil 2006 a 2014 (U19) \n\n\nDomingo 20 de abril: \n\n\nVaronil 2007 – 2008 (U18) \n\n\nVaronil 2004 a 2006 (U21) \n\n\nSelectivo (Jugadores elegidos) \n\n\n\n✅ Requisitos para participar:\n\n\nPresentar formato de registro completo y firmado \n\n\nPortar short y calcetas negras\, zapatos de fútbol y espinilleras obligatorias \n\n\nPresentarse 45 minutos antes de su horario asignado \n\n\n🎽 Se entregará una camiseta deportiva a todos los participantes registrados \n📲 Reserva tu lugar y solicita más información en este link de registro \n🚨 ¡Cupo limitado!
URL:https://tiovisor.com/event/pro-soccer-tryouts-en-mcallen-texas/
LOCATION:Bicentennial Soccer Complex\, 2001 Fern Ave\, McAllen\, Texas\, 78501\, United States
ATTACH;FMTTYPE=image/jpeg:https://tiovisor.com/wp-content/uploads/2025/04/VISORIASSEMANASANTA2.jpg
END:VEVENT
BEGIN:VEVENT
DTSTART;TZID=America/Mexico_City:20250219T130000
DTEND;TZID=America/Mexico_City:20250219T190000
DTSTAMP:20260418T231143
CREATED:20250211T225517Z
LAST-MODIFIED:20250211T225517Z
UID:583-1739970000-1739991600@tiovisor.com
SUMMARY:Visorias Oficiales de Club Rayados\, Chivas y Necaxa en Chilpancingo\, Guerrero
DESCRIPTION:⚽️ Visorías Oficiales de Club Rayados\, Chivas y Necaxa en Chilpancingo\, Guerrero 🔵🐐🔴 \n📅 Fecha: Miércoles 19 de febrero de 2025📋 Horarios y categorías: \n\n🕐 1:00 PM – Categorías 2008-2009\n🕑 2:00 PM – Categorías 2010-2011\n🕞 3:30 PM – Categorías 2012-2013\n🕔 5:00 PM – Categorías 2014-2015\n\n📍 Lugar: Cancha de los Hermanos Galeana\, Chilpancingo\, Guerrero \n📥 Carta responsiva: Se entregará en el lugar el día del evento \n🚨 Requisitos:✅ Presentarse con ropa deportiva sin logos de otros equipos✅ Llevar espinilleras y calzado adecuado para fútbol✅ Firmar la carta responsiva en el lugar antes de participar✅ Llevar hidratación \n🛑 Importante: Esta visoría no es organizada por nosotros; únicamente nos encargamos de anunciarla. Para más información\, consulta directamente con los organizadores. \n✨ ¡Aprovecha esta oportunidad de demostrar tu talento y unirte a uno de estos grandes clubes! ⚽🔥
URL:https://tiovisor.com/event/visorias-oficiales-de-club-rayados-chivas-y-necaxa-en-chilpancingo-guerrero/
LOCATION:Canchas de la Galeana\, Gladiolas\, La Lobera O America\, Chilpancingo de los Bravo\, Guerrero\, 39010\, Mexico
ATTACH;FMTTYPE=image/png:https://tiovisor.com/wp-content/uploads/2025/02/Monterrey-Chivas-Necaxa.png
END:VEVENT
BEGIN:VEVENT
DTSTART;TZID=America/Mexico_City:20250218T160000
DTEND;TZID=America/Mexico_City:20250220T220000
DTSTAMP:20260418T231143
CREATED:20250211T224122Z
LAST-MODIFIED:20250211T225313Z
UID:579-1739894400-1740088800@tiovisor.com
SUMMARY:Visorias Oficiales Club Pachuca en Querétaro
DESCRIPTION:⚽️ Visorías Oficiales Club Pachuca en Querétaro 🔵⚪️ \n📅 Fechas: 18\, 19 y 20 de febrero de 2025 \n📋 Horarios y categorías: \n🗓 Martes 18 de febrero: \n\n🕓 4:00 – 8:00 PM – Categorías 2015\, 2014\, 2013\, 2012\n\n🗓 Miércoles 19 de febrero: \n\n🕐 1:00 – 4:00 PM – Categorías 2011\, 2010\, 2009\, 2008\n\n🗓 Jueves 20 de febrero: \n\n🕓 4:00 – 8:00 PM – Categorías 2007\, 2006 (Varonil)\n🕓 4:00 – 8:00 PM – Categorías 2006 – 2012 (Femenil)\n\n📍 Lugar: Unidad Deportiva Candiles\, Querétaro \n📥 Registro obligatorio: Realiza tu registro a través del siguiente enlace 👉 Registro Visoría Pachuca Querétaro \n📥 Carta responsiva: Descárgala directamente desde el enlace de registro. \n🚨 Requisitos:✅ Presentar formato del seguro CEMA y comprobante de pago impreso✅ Llevar ropa blanca sin escudos de otros equipos de Liga MX✅ Usar calzado para fútbol✅ Llevar hidratación personal✅ Presentar carta responsiva firmada \n🛑 Importante: Esta visoría no es organizada por nosotros; únicamente nos encargamos de anunciarla. Para más información\, consulta directamente con los organizadores. \n✨ ¡No pierdas la oportunidad de demostrar tu talento y unirte al Club Pachuca! ⚽🔥
URL:https://tiovisor.com/event/visorias-oficiales-club-pachuca-en-queretaro/
LOCATION:Unidad Deportiva Candiles\, Boulevar Diamante\, Venceremos\, Querétaro\, 76903\, Mexico
ATTACH;FMTTYPE=image/png:https://tiovisor.com/wp-content/uploads/2025/02/Pachuca1.png
END:VEVENT
BEGIN:VEVENT
DTSTART;TZID=America/Mexico_City:20250217T153000
DTEND;TZID=America/Mexico_City:20250218T203000
DTSTAMP:20260418T231143
CREATED:20250211T221747Z
LAST-MODIFIED:20250211T223510Z
UID:575-1739806200-1739910600@tiovisor.com
SUMMARY:Visorías Oficiales Club Toluca en Zamora\, Michoacán
DESCRIPTION:⚽️ Visorias Oficiales Club Toluca en Zamora\, Michoacán 🔴⚪️ \n📅 Fechas: Lunes 17 y Martes 18 de febrero de 2025 \n📋 Horarios y categorías: \n🗓 Lunes 17 de febrero: \n\n🕞 3:30 – 4:30 PM – Categorías 2007-2008\n🕟 4:30 – 5:30 PM – Categorías 2009-2010\n🕠 5:30 – 6:30 PM – Categorías 2011-2012\n\n🗓 Martes 18 de febrero: \n\n🕞 3:30 – 4:30 PM – Categorías 2013-2014\n🕟 4:30 – 6:00 PM – Femenil y Categorías 2006-2008\n\n📍 Lugar: Estadio Viejo 20 de Noviembre\, Zamora\, Michoacán \n📥 Carta responsiva: Carta Responsiva Toluca \n🚨 Requisitos:✅ Presentar carta responsiva firmada por padre\, madre o tutor✅ Usar ropa deportiva adecuada✅ Llegar temprano para realizar la inscripción✅ Llevar hidratación \n🛑 Importante: Esta visoría no es organizada por nosotros; únicamente nos encargamos de anunciarla. Para más información\, consulta directamente con los organizadores. \n✨ ¡Aprovecha esta oportunidad de demostrar tu talento y unirte al Club Toluca! ⚽🔥
URL:https://tiovisor.com/event/visorias-oficiales-club-toluca-en-zamora-michoacan/
LOCATION:Estadio Viejo 20 de Noviembre\, Estadio Zamora\, Zamora de Hidalgo\, Michoacán\, 59646\, Mexico
ATTACH;FMTTYPE=image/png:https://tiovisor.com/wp-content/uploads/2025/02/Toluca1.png
END:VEVENT
BEGIN:VEVENT
DTSTART;TZID=America/Mexico_City:20250217T150000
DTEND;TZID=America/Mexico_City:20250218T200000
DTSTAMP:20260418T231143
CREATED:20250211T050255Z
LAST-MODIFIED:20250211T053853Z
UID:537-1739804400-1739908800@tiovisor.com
SUMMARY:Visorías Oficiales Club Deportivo Toluca en Valle de Chalco\, Estado de México
DESCRIPTION:⚽️ Visorías Oficiales Club Deportivo Toluca en Valle de Chalco\, Estado de México 🔴⚪️ \n📅 Fechas: Lunes 17 y Martes 18 de febrero de 2025 \n📋 Horarios y categorías: \n🗓 Lunes 17 de febrero: \n\n🕒 3:00 PM – Femenil Categorías 2007\, 2008\, 2009\n🕓 4:00 PM – Femenil Categorías 2010\, 2011\, 2012\n🕟 4:30 PM – Varonil Categorías 2013\, 2014\n\n🗓 Martes 18 de febrero: \n\n🕞 3:30 PM – Varonil Categorías 2009\, 2010\n🕓 4:00 PM – Varonil Categorías 2011\, 2012\n\n📍 Lugar: Estadio del Deportivo Luis Donaldo ColosioAv. Moctezuma 94\, San Miguel Xico\, 56617 Valle de Chalco Solidaridad\, Méx.\, México \n📥 Registro obligatorio: Realiza tu pre-registro a través del siguiente enlace 👉 Registro Visoría Toluca \n🚨 Requisitos:✅ Llegar media hora antes para el registro✅ Llevar hidratación✅ Usar ropa deportiva blanca sin logos✅ Usar zapatos de fútbol✅ Presentar copia de INE y carta responsiva firmada por el tutor legal \n🛑 Importante: Esta visoría no es organizada por nosotros; únicamente nos encargamos de anunciarla. Para más información\, consulta directamente con los organizadores. \n✨ ¡Aprovecha esta oportunidad de demostrar tu talento y unirte al Club Deportivo Toluca! 🔴⚽🔥
URL:https://tiovisor.com/event/visorias-oficiales-club-deportivo-toluca-en-valle-de-chalco-estado-de-mexico/
LOCATION:Estadio del Deportivo Luis Donaldo Colosio\, Av. Moctezuma 94\, San Miguel Xico\, Valle de Chalco Solidaridad\, Estado de México\, 56617\, Mexico
ATTACH;FMTTYPE=image/png:https://tiovisor.com/wp-content/uploads/2025/02/Toluca.png
END:VEVENT
BEGIN:VEVENT
DTSTART;TZID=America/Mexico_City:20250217T150000
DTEND;TZID=America/Mexico_City:20250217T183000
DTSTAMP:20260418T231143
CREATED:20250211T202719Z
LAST-MODIFIED:20250211T220140Z
UID:570-1739804400-1739817000@tiovisor.com
SUMMARY:Visorías Oficiales Club Atlas en Orizaba\, Veracruz
DESCRIPTION:⚽️ Visorías Oficiales Club Atlas en Orizaba\, Veracruz 🔴⚫️ \n📅 Fecha: Lunes 17 de febrero de 2025 \n📋 Horarios y categorías: \n\n🕒 3:00 PM – Categorías 2010-2011\n🕟 4:30 PM – Categorías 2008-2009\n\n📍 Lugar: CDO Cerritos\, Orizaba\, Veracruz \n📥 Carta responsiva: Carta Responsiva Atlas FC \n🚨 Requisitos:✅ Presentarse 30 minutos antes de su horario✅ Usar uniforme de visorías (playera blanca o roja\, short negro y medias negras con espinilleras)✅ Llevar hidratación \n🛑 Importante: Esta visoría no es organizada por nosotros; únicamente nos encargamos de anunciarla. Para más información\, consulta directamente con los organizadores. \n✨ ¡No pierdas la oportunidad de demostrar tu talento y unirte al Club Atlas! ⚽🔥
URL:https://tiovisor.com/event/visorias-oficiales-club-atlas-en-orizaba-veracruz/
LOCATION:CDO Cerritos\, Prol. de Nte. 2\, Abelardo L. Rodriguez\, Orizaba\, Veracruz\, 94310\, Mexico
ATTACH;FMTTYPE=image/png:https://tiovisor.com/wp-content/uploads/2025/02/Atlas1.png
END:VEVENT
BEGIN:VEVENT
DTSTART;TZID=America/Mexico_City:20250217T143000
DTEND;TZID=America/Mexico_City:20250217T210000
DTSTAMP:20260418T231143
CREATED:20250211T044528Z
LAST-MODIFIED:20250211T044639Z
UID:532-1739802600-1739826000@tiovisor.com
SUMMARY:Visorías Oficiales Club Necaxa en Sahuayo\, Michoacán
DESCRIPTION:⚽️ Visorías Oficiales Club Necaxa en Sahuayo\, Michoacán 🔴⚪️ \n📅 Fecha: Lunes 17 de febrero de 2025 \n📋 Horarios y categorías: \n\n2009\, 2010 y 2011:\n\n🕝 Registro: 2:30 PM\n🕒 Inicio: 3:00 PM\n\n\n2012 y 2013:\n\n🕟 Registro: 4:30 PM\n🕔 Inicio: 5:00 PM\n\n\n\n📍 Lugar: Unidad Deportiva\, Cancha 1\, Sahuayo\, Michoacán \n📥 Carta responsiva: Descárgala aquí 👉 Carta Responsiva \n🚨 Requisitos:✅ Usar ropa deportiva color blanca (sin alusiones a otros equipos nacionales de fútbol)✅ Llevar hidratación \n🛑 Importante: Esta visoría no es organizada por nosotros; únicamente nos encargamos de anunciarla. Para más información\, consulta directamente con los organizadores. \n✨ ¡No pierdas la oportunidad de mostrar tu talento y unirte al Club Necaxa! ⚽🔥
URL:https://tiovisor.com/event/visorias-oficiales-club-necaxa-en-sahuayo-michoacan/
LOCATION:Unidad Deportiva Sahuayo\, Alfredo Gutiérrez 459\, La Popular\, Sahuayo de Morelos\, Michoacán\, 59028\, Mexico
ATTACH;FMTTYPE=image/png:https://tiovisor.com/wp-content/uploads/2025/02/Necaxa1.png
END:VEVENT
BEGIN:VEVENT
DTSTART;TZID=America/Mexico_City:20250215T110000
DTEND;TZID=America/Mexico_City:20250216T180000
DTSTAMP:20260418T231143
CREATED:20250211T081129Z
LAST-MODIFIED:20250211T081202Z
UID:557-1739617200-1739728800@tiovisor.com
SUMMARY:Visorías Oficiales Club León en Etla\, Oaxaca
DESCRIPTION:⚽️ Visorías Oficiales Club León en Etla\, Oaxaca 🦁 \n📅 Fechas: 15 y 16 de febrero de 2025 \n📋 Horarios y categorías: \n🗓 Sábado 15 de febrero (Público en general): \n\n🕚 11:00 AM – Varonil 2013-2014\n🕐 1:00 PM – Varonil 2011-2012\n\n🗓 Domingo 16 de febrero (Público en general): \n\n🕚 11:00 AM – Varonil 2009-2010\n🕐 1:00 PM – Femenil 2006-2012\n🕒 3:00 PM – Varonil 2007-2008\n\n📍 Lugar: Cancha Sintética – Unidad Deportiva de Nazareno\, Etla\, Oaxaca \n📥 Registro obligatorio y carta responsiva:🔗 Realiza tu registro en línea aquí 👉 Registro Visoría Club León📲 Envía tu captura de pantalla con tu nombre completo al WhatsApp: 951 199 88 72📥 Una vez confirmado\, recibirás tu carta responsiva para descargar\, imprimir y presentar antes de la visoría. \n🚨 Requisitos:✅ Usar ropa deportiva blanca (sin escudos de equipos de Liga MX)✅ Llevar zapatos de fútbol\, espinilleras e hidratación✅ Donar un kilo de croquetas para apoyar al refugio de perros “Patitas Felices Oaxaca” 🐶❤️✅ Llegar mínimo 30 minutos antes para entregar carta responsiva y finalizar el registro \n🛑 Importante: Esta visoría no es organizada por nosotros; únicamente nos encargamos de anunciarla. Para más información\, consulta directamente con los organizadores. \n✨ ¡No pierdas la oportunidad de mostrar tu talento y unirte al Club León mientras apoyas a una buena causa! ⚽🐕🔥
URL:https://tiovisor.com/event/visorias-oficiales-club-leon-en-etla-oaxaca/
LOCATION:Unidad Deportiva Nazareno\, Unidad Deportiva Nazareno\, Etla\, Oaxaca\, 68240\, Mexico
ATTACH;FMTTYPE=image/png:https://tiovisor.com/wp-content/uploads/2025/02/Leon.png
END:VEVENT
BEGIN:VEVENT
DTSTART;TZID=America/Mexico_City:20250215T100000
DTEND;TZID=America/Mexico_City:20250215T150000
DTSTAMP:20260418T231143
CREATED:20250211T060039Z
LAST-MODIFIED:20250211T061039Z
UID:542-1739613600-1739631600@tiovisor.com
SUMMARY:Visorías Oficiales Club América en Maravatío\, Michoacán
DESCRIPTION:⚽️ Visorías Oficiales Club América en Maravatío\, Michoacán 🦅 \n📅 Fecha: Sábado 15 de febrero de 2025 \n📋 Horarios y categorías: \n\n🕙 10:00 AM – Categorías 2008 a 2010\n🕛 12:00 PM – Categorías 2011 a 2014\n\n📍 Lugar: Cancha Unidad Deportiva Melchor Ocampo\, Maravatío\, Michoacán \n📥 Carta responsiva: Descárgala aquí 👉 Carta Responsiva \n🚨 Requisitos:✅ Usar uniforme blanco✅ Llevar espinilleras✅ Presentar copia de INE del padre\, madre o tutor✅ Carta responsiva firmada por el padre\, madre o tutor✅ Llevar hidratación y gel antibacterial \n🛑 Importante: Esta visoría no es organizada por nosotros; únicamente nos encargamos de anunciarla. Para más información\, consulta directamente con los organizadores. \n✨ ¡No pierdas la oportunidad de mostrar tu talento y unirte al Club América! ⚽🔥
URL:https://tiovisor.com/event/visorias-oficiales-club-america-en-maravatio-michoacan/
LOCATION:Unidad Deportiva Melchor Ocampo\, BalbuenaMich.\, México\, Maravatio de Ocampo\, Michoacán\, 61250\, Mexico
ATTACH;FMTTYPE=image/png:https://tiovisor.com/wp-content/uploads/2025/02/America1.png
END:VEVENT
BEGIN:VEVENT
DTSTART;TZID=America/Mexico_City:20250215T090000
DTEND;TZID=America/Mexico_City:20250215T150000
DTSTAMP:20260418T231143
CREATED:20250211T200730Z
LAST-MODIFIED:20250211T200745Z
UID:566-1739610000-1739631600@tiovisor.com
SUMMARY:Visorías Oficiales Chivas en Tecuala\, Nayarit
DESCRIPTION:⚽️ Visorías Oficiales Chivas en Tecuala\, Nayarit 🐐 \n📅 Fecha: Sábado 15 de febrero de 2025 \n📋 Horarios y categorías: \n\n🕘 9:00 AM – Categorías 2009-2010\n🕥 10:30 AM – Categorías 2011-2014\n🕛 12:00 PM – Categorías 2013-2014\n🕐 1:00 PM – Categoría 2015\n\n📍 Lugar: Unidad Deportiva Benito Juárez\, Boulevard Tecuala\, Nayarit\, 63450 \n📥 Registro obligatorio: Este queda pendiente debido a que no han agregado el link en la página oficial\, mencionar esto en la visoria. (presentarse con un adulto para firmar carta responsiva). \n🛑 Importante: Esta visoría no es organizada por nosotros; únicamente nos encargamos de anunciarla. Para más información\, consulta directamente con los organizadores. \n✨ ¡Aprovecha esta oportunidad de demostrar tu talento y unirte al Club Chivas! ⚽🔥
URL:https://tiovisor.com/event/visorias-oficiales-chivas-en-tecuala-nayarit/
LOCATION:Unidad Deportiva Tecuala\, Boulevar\, Tecuala - Acaponeta\, Centro\, Tecuala\, Nayarit\, 63440\, Mexico
ATTACH;FMTTYPE=image/png:https://tiovisor.com/wp-content/uploads/2025/02/Chivas2.png
END:VEVENT
BEGIN:VEVENT
DTSTART;TZID=America/Mexico_City:20250214T090000
DTEND;TZID=America/Mexico_City:20250214T140000
DTSTAMP:20260418T231143
CREATED:20250211T160055Z
LAST-MODIFIED:20250211T162705Z
UID:562-1739523600-1739541600@tiovisor.com
SUMMARY:Visorías Oficiales Club Atlas en Cárdenas\, Tabasco
DESCRIPTION:⚽️ Visorías Oficiales Club Atlas en Cárdenas\, Tabasco 🔴⚫️ \n📅 Fecha: Miércoles 14 de febrero de 2025 \n📋 Horarios y categorías (Visoría Abierta – Público en General): \n\n🕘 9:00 AM – Categorías 2008-2009\n🕚 11:00 AM – Categorías 2010-2011\n\n📍 Lugar: Campo de la Petrolera\, Cárdenas\, Tabasco \n📥 Carta responsiva: Carta Responsiva Atlas \n🚨 Requisitos:✅ Descargar y presentar carta responsiva✅ Usar playera blanca o roja\, short negro y medias negras con espinilleras✅ Llevar hidratación \n🛑 Importante: Esta visoría no es organizada por nosotros; únicamente nos encargamos de anunciarla. Para más información\, consulta directamente con los organizadores. \n✨ ¡Aprovecha esta oportunidad de mostrar tu talento y unirte al Club Atlas! ⚽🔥
URL:https://tiovisor.com/event/visorias-oficiales-club-atlas-en-cardenas-tabasco/
LOCATION:Campo de la Petrolera\, Secc. 14\, Petrolera\, Cárdenas\, Tabasco\, 86597\, Mexico
ATTACH;FMTTYPE=image/png:https://tiovisor.com/wp-content/uploads/2025/02/Atlas.png
END:VEVENT
BEGIN:VEVENT
DTSTART;TZID=America/Mexico_City:20250213T150000
DTEND;TZID=America/Mexico_City:20250214T190000
DTSTAMP:20260418T231143
CREATED:20250211T075437Z
LAST-MODIFIED:20250211T080406Z
UID:553-1739458800-1739559600@tiovisor.com
SUMMARY:Visorías Oficiales Club Rayados en Zihuatanejo\, Guerrero
DESCRIPTION:⚽️ Visorías Oficiales Club Rayados en Zihuatanejo\, Guerrero 🔵⚪️ \n📅 Fechas: Jueves 13 y Viernes 14 de febrero de 2025 \n📋 Horarios y categorías: \n🗓 Jueves 13 de febrero: \n\n🕒 3:00 PM – Categorías 2009-2010\n🕟 4:30 PM – Categorías 2007-2008\n\n🗓 Viernes 14 de febrero: \n\n🕒 3:00 PM – Categorías 2013-2014\n🕟 4:30 PM – Categorías 2011-2012\n\n📍 Lugar: Unidad Deportiva Campo 1\, Zihuatanejo de Azueta\, Guerrero \n📥 Carta responsiva: Carta Monterrey \n🚨 Requisitos:✅ Usar ropa deportiva blanca sin logos de otros equipos✅ Llevar tachones y espinilleras✅ Presentar carta responsiva firmada \n🛑 Importante: Esta visoría no es organizada por nosotros; únicamente nos encargamos de anunciarla. Para más información\, consulta directamente con los organizadores. \n✨ ¡No pierdas la oportunidad de mostrar tu talento y unirte al Club Rayados! ⚽🔥
URL:https://tiovisor.com/event/visorias-oficiales-club-rayados-en-zihuatanejo-guerrero/
LOCATION:Unidad Deportiva Zihuatanejo\, Avenida Bicentenario\, Zihuatanejo de Azueta\, Guerrero\, 40897\, Mexico
ATTACH;FMTTYPE=image/png:https://tiovisor.com/wp-content/uploads/2025/02/Monterrey.png
END:VEVENT
BEGIN:VEVENT
DTSTART;TZID=America/Mexico_City:20250213T150000
DTEND;TZID=America/Mexico_City:20250213T200000
DTSTAMP:20260418T231143
CREATED:20250211T071332Z
LAST-MODIFIED:20250211T074228Z
UID:547-1739458800-1739476800@tiovisor.com
SUMMARY:Visorías Oficiales Club América y Club Rayados en Jocotepec\, Jalisco
DESCRIPTION:⚽️ Visorías Oficiales Club América y Club Rayados en Jocotepec\, Jalisco 🦅🔵⚪️ \n📅 Fecha: Jueves 13 de febrero de 2025 \n📋 Horarios y categorías: \n\n🕒 3:00 PM – 2008-2009\n🕓 4:00 PM – 2010-2011\n🕔 5:00 PM – 2012-2013\n\n📍 Lugar: Campo Empastado Jocotepec\, Jalisco \n📥 Carta responsiva: Descárgala aquí 👉 Carta Responsiva Monterrey – Carta Responsiva América \n🚨 Requisitos:✅ Asistir con short y playera sin logos de otros equipos✅ Usar espinilleras y calcetas✅ Llevar hidratación✅ Presentar carta responsiva firmada \n🛑 Importante: Esta visoría no es organizada por nosotros; únicamente nos encargamos de anunciarla. Para más información\, consulta directamente con los organizadores. \n✨ ¡No pierdas la oportunidad de mostrar tu talento y ser parte del Club América o Club Rayados! ⚽
URL:https://tiovisor.com/event/visorias-oficiales-club-america-y-club-rayados-en-jocotepec-jalisco/
LOCATION:Campo El Empastado\, Donato Guerra Pte.\, Unidad Deportiva Sur\, Jocotepec\, Jalisco\, 45804\, Mexico
ATTACH;FMTTYPE=image/png:https://tiovisor.com/wp-content/uploads/2025/02/Monterrey-America.png
END:VEVENT
BEGIN:VEVENT
DTSTART;TZID=America/Mexico_City:20250213T140000
DTEND;TZID=America/Mexico_City:20250213T190000
DTSTAMP:20260418T231143
CREATED:20250211T043609Z
LAST-MODIFIED:20250211T043609Z
UID:526-1739455200-1739473200@tiovisor.com
SUMMARY:Visorías Oficiales Chivas en Zapopan\, Jalisco
DESCRIPTION:⚽️ Visorías Oficiales Chivas en Zapopan\, Jalisco 🐐 \n📅 Fecha: Jueves 13 de febrero de 2025 \n📋 Categorías convocadas: \n\n2010\, 2011\, 2012 y 2013\n\n📍 Lugar: Canchas NapolesAvenida General Ramón Corona 6800\, La Mojonera\, 45200 Zapopan\, Jalisco\, México \n📥 Registro obligatorio: Realiza tu registro a través del siguiente enlace 👉 Registro Visoría Chivas Zapopan \n🛑 Importante: Esta visoría no es organizada por nosotros; únicamente nos encargamos de anunciarla. Para más información\, consulta directamente con los organizadores. \n✨ ¡Aprovecha esta oportunidad de demostrar tu talento y unirte al Club Chivas! 🔴⚪️⚽️
URL:https://tiovisor.com/event/visorias-oficiales-chivas-en-zapopan-jalisco/
LOCATION:Canchas Napoles\, Avenida General Ramón Corona 6800\, La Mojonera\, Zapopan\, Jalisco\, 45200\, Mexico
ATTACH;FMTTYPE=image/png:https://tiovisor.com/wp-content/uploads/2025/02/Chivas-1.png
END:VEVENT
BEGIN:VEVENT
DTSTART;TZID=America/Mexico_City:20250213T140000
DTEND;TZID=America/Mexico_City:20250213T183000
DTSTAMP:20260418T231143
CREATED:20250208T002411Z
LAST-MODIFIED:20250211T043827Z
UID:518-1739455200-1739471400@tiovisor.com
SUMMARY:Visorías Oficiales Club Necaxa en Guadalajara\, Jalisco
DESCRIPTION:⚽️ Visorías Oficiales Club Necaxa en Guadalajara\, Jalisco 🔴⚪️ \n📅 Fecha: Jueves 13 de febrero de 2025 \n📋 Horarios y categorías: \n\n2010 y 2011:\n\nRegistro: 2:30 PM\nInicio: 3:00 PM\n\n\n2012 y 2013:\n\nRegistro: 4:00 PM\nInicio: 4:30 PM\n\n\n\n📍 Lugar: Parque Luis Quintanar\, Canchas 7 y 9\, Guadalajara\, Jalisco \n📥 Carta responsiva: Descárgala aquí 👉 Carta Responsiva \n🚨 Requisitos: \n\nLlevar hidratación\nUsar ropa deportiva color blanca (sin alusiones a otros equipos nacionales de fútbol)\n\n🛑 Importante: Esta visoría no es organizada por nosotros; únicamente nos encargamos de anunciarla. Para más información\, consulta directamente con los organizadores. \n✨ ¡No pierdas la oportunidad de mostrar tu talento y unirte al Club Necaxa! 🔴⚪️⚽️
URL:https://tiovisor.com/event/visorias-oficiales-club-necaxa-en-guadalajara-jalisco/
LOCATION:Parque Luis Quintanar\, Av. Malecón\, Tetlán\, Guadalajara\, Jalisco\, 44820\, Mexico
ATTACH;FMTTYPE=image/png:https://tiovisor.com/wp-content/uploads/2025/02/Necaxa.png
END:VEVENT
BEGIN:VEVENT
DTSTART;TZID=America/Mexico_City:20250210T090000
DTEND;TZID=America/Mexico_City:20250212T140000
DTSTAMP:20260418T231143
CREATED:20250208T000346Z
LAST-MODIFIED:20250208T001432Z
UID:512-1739178000-1739368800@tiovisor.com
SUMMARY:Visorías Oficiales Club América en Pachuca\, Hidalgo
DESCRIPTION:⚽️ Visorías Oficiales Club América en Pachuca\, Hidalgo 🦅 \n📅 Fechas y horarios:\nVaronil: \n\n10 de febrero:\n\n🕘 9:00 AM – Categorías 2010-2011\n🕚 11:00 AM – Categorías 2008-2009\n🕐 1:00 PM – Categorías 2006-2007\n\n\n12 de febrero:\n\n🕘 9:00 AM – Categorías 2012-2013\n\n\n\nFemenil: \n\n12 de febrero:\n\n🕚 11:00 AM – Categorías 2006-2010\n\n\n\n📍 Lugar: Deportivo Piracantos\, Ciudad de Pachuca\, Hidalgo \n📥 Carta responsiva: Descárgala aquí 👉 Carta Responsiva \n🛑 Importante: Esta visoría no es organizada por nosotros; únicamente nos encargamos de anunciarla. Para más información\, comunícate directamente con los organizadores. \n✨ ¡No dejes pasar esta oportunidad de demostrar tu talento y unirte al Club América! 🦅⚽️
URL:https://tiovisor.com/event/visorias-oficiales-club-america-en-pachuca-hidalgo/
LOCATION:Deportivo Piracantos\, Blvrd Luis Donaldo Colosio 1928\, Pachuca de Soto\, Hidalgo\, 42088\, Mexico
ATTACH;FMTTYPE=image/png:https://tiovisor.com/wp-content/uploads/2025/02/America.png
END:VEVENT
BEGIN:VEVENT
DTSTART;TZID=America/Mexico_City:20250208T090000
DTEND;TZID=America/Mexico_City:20250208T130000
DTSTAMP:20260418T231143
CREATED:20250207T085317Z
LAST-MODIFIED:20250207T090521Z
UID:493-1739005200-1739019600@tiovisor.com
SUMMARY:Visorías Chivas en Atizapán\, Estado de México
DESCRIPTION:⚽️ Visorías Chivas en Atizapán\, Estado de México 🐐 \n📅 Fecha: Sábado 8 de febrero de 2025\n⏰ Hora de inicio: 9:00 AM\n📍 Lugar: Rebaño Chivas Atizapán\nPriv. San Rita 13\, San Juan Bosco 1\, 52946 Cd. López Mateos\, Méx.\, México \n📋 Categorías convocadas: \n\n2009\, 2010\, 2011\, 2012\, 2013\, 2014\, 2015 y 2016\n\n🔗 Registro obligatorio:\nPara participar\, es necesario registrarse previamente. Puedes hacerlo directamente a través del siguiente enlace: Registro Visoría Chivas Atizapán \n📥 Más información:\nConsulta esta y otras visorías disponibles en nuestra página web y descarga la carta responsiva si es requerida. \n🛑 Disclaimer: Esta visoría no es organizada por nosotros; únicamente nos encargamos de anunciarla para su difusión. Para cualquier consulta adicional\, te sugerimos comunicarte directamente con los organizadores del evento. \n✨ ¡No pierdas la oportunidad de demostrar tu talento y formar parte del equipo Chivas! 🔴⚪️✨
URL:https://tiovisor.com/event/visorias-chivas-en-atizapan-estado-de-mexico/
LOCATION:Rebaño Chivas Atizapán\, Priv. San Rita 13\, San Juan Bosco 1\, México\, México\, 52946\, Mexico
ATTACH;FMTTYPE=image/png:https://tiovisor.com/wp-content/uploads/2025/02/Chivas.png
END:VEVENT
END:VCALENDAR